BEGIN:VCALENDAR
VERSION:2.0
PRODID:-//ChamberMaster//Event Calendar 2.0//EN
METHOD:PUBLISH
X-PUBLISHED-TTL:P3D
REFRESH-INTERVAL:P3D
CALSCALE:GREGORIAN
BEGIN:VEVENT
DTSTART:20031010T050000Z
DTEND:20031010T050000Z
X-MICROSOFT-CDO-ALLDAYEVENT:FALSE
SUMMARY:Making Taxes Less Taxing Workshop
DESCRIPTION:Making Taxes Less Taxing Workshop
X-ALT-DESC;FMTTYPE=text/html:Making Taxes Less Taxing Workshop
LOCATION:The Chamber
UID:e.2827.1980
SEQUENCE:3
DTSTAMP:20260423T074842Z
URL:https://member.jacksontn.com/events/details/making-taxes-less-taxing-workshop-10-10-2003-1980
END:VEVENT

END:VCALENDAR
