BEGIN:VCALENDAR
VERSION:2.0
PRODID:-//ChamberMaster//Event Calendar 2.0//EN
METHOD:PUBLISH
X-PUBLISHED-TTL:P3D
REFRESH-INTERVAL:P3D
CALSCALE:GREGORIAN
BEGIN:VEVENT
DTSTART:20050811T133000Z
DTEND:20050811T210000Z
X-MICROSOFT-CDO-ALLDAYEVENT:FALSE
SUMMARY:Maintenance Related TOSHA Compliance Training
DESCRIPTION:Workshop designed specifically for maintenance personnel responsible for correcting  non-compliance areas and for maintaining machines and equipment in a manner that will guarantee continuous compliance. This workshop will help maintenance people achieve the results that are necessary to ensure continuous compliance.
X-ALT-DESC;FMTTYPE=text/html:Workshop designed specifically for maintenance personnel responsible for correcting  non-compliance areas and for maintaining machines and equipment in a manner that will guarantee continuous compliance. This workshop will help maintenance people achieve the results that are necessary to ensure continuous compliance.
LOCATION:Holiday Inn 541 Carriage House Drive Jackson\, TN 38305
UID:e.2827.1165
SEQUENCE:3
DTSTAMP:20260421T171019Z
URL:https://member.jacksontn.com/events/details/maintenance-related-tosha-compliance-training-08-11-2005-1165
END:VEVENT

END:VCALENDAR
