BEGIN:VCALENDAR
VERSION:2.0
PRODID:-//ChamberMaster//Event Calendar 2.0//EN
METHOD:PUBLISH
X-PUBLISHED-TTL:P3D
REFRESH-INTERVAL:P3D
CALSCALE:GREGORIAN
BEGIN:VEVENT
DTSTART:20050301T233000Z
DTEND:20050302T023000Z
X-MICROSOFT-CDO-ALLDAYEVENT:FALSE
SUMMARY:Maintaining a Successful Business 2005
DESCRIPTION:
X-ALT-DESC;FMTTYPE=text/html:
LOCATION:The Chamber 197 Auditorium Street Jackson\, TN 38301
UID:e.2827.1834
SEQUENCE:3
DTSTAMP:20260421T213731Z
URL:https://member.jacksontn.com/events/details/maintaining-a-successful-business-2005-03-01-2005-1834
END:VEVENT

END:VCALENDAR
