BEGIN:VCALENDAR
VERSION:2.0
PRODID:-//ChamberMaster//Event Calendar 2.0//EN
METHOD:PUBLISH
X-PUBLISHED-TTL:P3D
REFRESH-INTERVAL:P3D
CALSCALE:GREGORIAN
BEGIN:VEVENT
DTSTART:20040309T233000Z
DTEND:20040908T010000Z
X-MICROSOFT-CDO-ALLDAYEVENT:FALSE
SUMMARY:Maintaining a Successful Business
DESCRIPTION:
X-ALT-DESC;FMTTYPE=text/html:
LOCATION:McWherter Center/The Chamber JSCC/197 Auditorium Jackson\, TN 38301
UID:e.2827.1833
SEQUENCE:3
DTSTAMP:20260422T135424Z
URL:https://member.jacksontn.com/events/details/maintaining-a-successful-business-03-09-2004-1833
END:VEVENT

END:VCALENDAR
