BEGIN:VCALENDAR
VERSION:2.0
PRODID:-//ChamberMaster//Event Calendar 2.0//EN
METHOD:PUBLISH
X-PUBLISHED-TTL:P3D
REFRESH-INTERVAL:P3D
CALSCALE:GREGORIAN
BEGIN:VEVENT
DTSTART:20050514T153000Z
DTEND:20050514T180000Z
X-MICROSOFT-CDO-ALLDAYEVENT:FALSE
SUMMARY:Main Street Publishing
DESCRIPTION:The following authors will be signing their books:\n- Liberty Technology High School Students\, Crusader Chronicles - Volume 2 Images\, Poetry Short Stories\, and Artwork\n- O'Neal Henley - Retired North Side High School principal\, coach and asst. superintendent. "When America Still had Children" - a humorous and nostalgic account of a boy's life during the fifties.\ndn english - Jackson City Historian. "Downtown Wanderings" - a special book series rich with historical pictures and stories.
X-ALT-DESC;FMTTYPE=text/html:The following authors will be signing their books:\n- Liberty Technology High School Students\, Crusader Chronicles - Volume 2 Images\, Poetry Short Stories\, and Artwork\n- O'Neal Henley - Retired North Side High School principal\, coach and asst. superintendent. "When America Still had Children" - a humorous and nostalgic account of a boy's life during the fifties.\ndn english - Jackson City Historian. "Downtown Wanderings" - a special book series rich with historical pictures and stories.
LOCATION:Davis Kidd Booksellers & Cafe The Vinings Jackson\, TN
UID:e.2827.1079
SEQUENCE:3
DTSTAMP:20260421T182156Z
URL:https://member.jacksontn.com/events/details/main-street-publishing-05-14-2005-1079
END:VEVENT

END:VCALENDAR
