BEGIN:VCALENDAR
VERSION:2.0
PRODID:-//ChamberMaster//Event Calendar 2.0//EN
METHOD:PUBLISH
X-PUBLISHED-TTL:P3D
REFRESH-INTERVAL:P3D
CALSCALE:GREGORIAN
BEGIN:VEVENT
DTSTART:20051020T170000Z
DTEND:20051020T190000Z
X-MICROSOFT-CDO-ALLDAYEVENT:FALSE
SUMMARY:Madison County Relay for Life Kickoff
DESCRIPTION:The event if free\, but please RSVP to 512.5006 or donna.stines@cancer.org. Lunch will be provided.
X-ALT-DESC;FMTTYPE=text/html:The event if free\, but please RSVP to 512.5006 or donna.stines@cancer.org. Lunch will be provided.
LOCATION:American Cancer Society parking lot 2935 U.S. Hwy 45 Bypass Frontage Road Jackson\, TN 38305
UID:e.2827.1291
SEQUENCE:3
DTSTAMP:20260421T130419Z
URL:https://member.jacksontn.com/events/details/madison-county-relay-for-life-kickoff-10-20-2005-1291
END:VEVENT

END:VCALENDAR
