BEGIN:VCALENDAR
VERSION:2.0
PRODID:-//ChamberMaster//Event Calendar 2.0//EN
METHOD:PUBLISH
X-PUBLISHED-TTL:P3D
REFRESH-INTERVAL:P3D
CALSCALE:GREGORIAN
BEGIN:VEVENT
DTSTART:20020409T000000Z
DTEND:20020408T050000Z
X-MICROSOFT-CDO-ALLDAYEVENT:FALSE
SUMMARY:LU Graduation 2004
DESCRIPTION:
X-ALT-DESC;FMTTYPE=text/html:
LOCATION:Jackson Fairgrounds Park
UID:e.2827.1543
SEQUENCE:3
DTSTAMP:20260424T071601Z
URL:https://member.jacksontn.com/events/details/lu-graduation-2004-04-08-2002-1543
END:VEVENT

END:VCALENDAR
