BEGIN:VCALENDAR
VERSION:2.0
PRODID:-//ChamberMaster//Event Calendar 2.0//EN
METHOD:PUBLISH
X-PUBLISHED-TTL:P3D
REFRESH-INTERVAL:P3D
CALSCALE:GREGORIAN
BEGIN:VEVENT
DTSTART;VALUE=DATE:20020429
DTEND;VALUE=DATE:20020430
TRANSP:TRANSPARENT
X-MICROSOFT-CDO-ALLDAYEVENT:TRUE
SUMMARY:LU Graduation 2003
DESCRIPTION:
X-ALT-DESC;FMTTYPE=text/html:
LOCATION:Jackson Fairgrounds Park
UID:e.2827.1814
SEQUENCE:3
DTSTAMP:20260424T055923Z
URL:https://member.jacksontn.com/events/details/lu-graduation-2003-04-29-2002-1814
END:VEVENT

END:VCALENDAR
