BEGIN:VCALENDAR
VERSION:2.0
PRODID:-//ChamberMaster//Event Calendar 2.0//EN
METHOD:PUBLISH
X-PUBLISHED-TTL:P3D
REFRESH-INTERVAL:P3D
CALSCALE:GREGORIAN
BEGIN:VEVENT
DTSTART:20190927T163000Z
DTEND:20190927T180000Z
X-MICROSOFT-CDO-ALLDAYEVENT:FALSE
SUMMARY:LJAA Industry Spotlight Quarterly Luncheon
DESCRIPTION:Leadership Jackson Alumni Association's Industry Spotlight Quarterly Luncheon features lunch and a tour of Coca Cola.
X-ALT-DESC;FMTTYPE=text/html:<span style="font-size:18px\;"><span style="font-family:arial\;">Leadership Jackson Alumni Association&#39\;s Industry Spotlight Quarterly Luncheon features lunch and a tour of Coca Cola.&nbsp\;</span></span>\n<div style="text-align: center\;">&nbsp\;</div>\n
LOCATION:Coca-Cola 2650 North Pkwy E. Jackson\, TN 38301
UID:e.2827.6798
SEQUENCE:3
DTSTAMP:20260422T074859Z
URL:https://member.jacksontn.com/events/details/ljaa-industry-spotlight-quarterly-luncheon-6798
END:VEVENT

END:VCALENDAR
