BEGIN:VCALENDAR
VERSION:2.0
PRODID:-//ChamberMaster//Event Calendar 2.0//EN
METHOD:PUBLISH
X-PUBLISHED-TTL:P3D
REFRESH-INTERVAL:P3D
CALSCALE:GREGORIAN
BEGIN:VEVENT
DTSTART:20181109T173000Z
DTEND:20181109T190000Z
X-MICROSOFT-CDO-ALLDAYEVENT:FALSE
SUMMARY:LJAA Industry Spotlight Quarterly Luncheon
DESCRIPTION:Leadership Jackson Alumni Association's Industry Spotlight Quarterly Luncheon features lunch and a tour of Stanley Black & Decker. \n\n\n*No heels or open-toed shoes allowed on the plant tour.
X-ALT-DESC;FMTTYPE=text/html:Leadership Jackson Alumni Association&#39\;s Industry Spotlight Quarterly Luncheon features lunch and a tour of Stanley Black &amp\; Decker.&nbsp\;\n<div style="text-align: center\;"><br />\n<em>*No heels or open-toed shoes allowed on the plant tour.</em></div>\n
LOCATION:Stanley Black & Decker 4825 Highway 45 N Jackson\, TN 38305
UID:e.2827.6715
SEQUENCE:3
DTSTAMP:20260423T063336Z
URL:https://member.jacksontn.com/events/details/ljaa-industry-spotlight-quarterly-luncheon-6715
END:VEVENT

END:VCALENDAR
