BEGIN:VCALENDAR
VERSION:2.0
PRODID:-//ChamberMaster//Event Calendar 2.0//EN
METHOD:PUBLISH
X-PUBLISHED-TTL:P3D
REFRESH-INTERVAL:P3D
CALSCALE:GREGORIAN
BEGIN:VEVENT
DTSTART:20181004T220000Z
DTEND:20181005T010000Z
X-MICROSOFT-CDO-ALLDAYEVENT:FALSE
SUMMARY:LJ 40 Years Celebration
DESCRIPTION:Since its inception in 1979\, Leadership Jackson has been developing a progressive network of leaders throughout our community. Please come join us as we celebrate the program\, its alumni and the impact it has made on our community.\n\n\n\nGreat Food l Live Music l Networking
X-ALT-DESC;FMTTYPE=text/html:Since its inception in 1979\, Leadership Jackson has been developing a progressive network of leaders throughout our community. Please come join us as we celebrate the program\, its alumni and the impact it has made on our community.<br />\n<br />\nGreat Food l Live Music l Networking<br />\n&nbsp\;
LOCATION:The Farmer's Market Downtown Jackson
UID:e.2827.6709
SEQUENCE:3
DTSTAMP:20260423T085745Z
URL:https://member.jacksontn.com/events/details/lj-40-years-celebration-6709
END:VEVENT

END:VCALENDAR
