BEGIN:VCALENDAR
VERSION:2.0
PRODID:-//ChamberMaster//Event Calendar 2.0//EN
METHOD:PUBLISH
X-PUBLISHED-TTL:P3D
REFRESH-INTERVAL:P3D
CALSCALE:GREGORIAN
BEGIN:VEVENT
DTSTART;VALUE=DATE:20050425
DTEND;VALUE=DATE:20050426
TRANSP:TRANSPARENT
X-MICROSOFT-CDO-ALLDAYEVENT:TRUE
SUMMARY:Line Dance Lessons
DESCRIPTION:Monday nights. Intermediate and advanced line dance lessons from 6-6:50 p.m. Singles and couples line dance lessons 7:10 p.m. to 8:00 p.m.
X-ALT-DESC;FMTTYPE=text/html:Monday nights. Intermediate and advanced line dance lessons from 6-6:50 p.m. Singles and couples line dance lessons 7:10 p.m. to 8:00 p.m.
LOCATION:Rock-a-Billy Hall of Fame 105 N. Church Jackson\, TN 38301
UID:e.2827.1029
SEQUENCE:3
DTSTAMP:20260422T021414Z
URL:https://member.jacksontn.com/events/details/line-dance-lessons-04-25-2005-1029
END:VEVENT

END:VCALENDAR
