BEGIN:VCALENDAR
VERSION:2.0
PRODID:-//ChamberMaster//Event Calendar 2.0//EN
METHOD:PUBLISH
X-PUBLISHED-TTL:P3D
REFRESH-INTERVAL:P3D
CALSCALE:GREGORIAN
BEGIN:VEVENT
DTSTART:20171012T220000Z
DTEND:20171013T000000Z
X-MICROSOFT-CDO-ALLDAYEVENT:FALSE
SUMMARY:Liberty Street Block Party
DESCRIPTION:Liberty Street Block Party\n\nFree to get in!\n\n$1 for food and drink!\n\n\n\nSponsored by TLM Associates\, Jackson Downtown Development Corporation\, BancorpSouth\, King Jewelers\, Southwest Tennessee Development District\, The Moore Studio and Jackson Chamber.
X-ALT-DESC;FMTTYPE=text/html:Liberty Street Block Party<br />\nFree to get in!<br />\n$1 for food and drink!<br />\n<br />\n<span style="font-family:arial\;"><span _mce_style="color: #000000\; font-family: Calibri\, Helvetica\, Arial\, sans-serif\; font-size: 9pt\; font-style: normal\; font-weight: normal\;" style="color: rgb(0\, 0\, 0)\; text-align: center\; font-size: 9pt\;">Sponsored by TLM Associates\, Jackson Downtown Development Corporation\, BancorpSouth\, King Jewelers\, Southwest Tennessee Development District\, The Moore Studio and Jackson Chamber.</span></span>
LOCATION:215 N. Liberty St. Downtown Jackson
UID:e.2827.5641
SEQUENCE:3
DTSTAMP:20260423T235833Z
URL:https://member.jacksontn.com/events/details/liberty-street-block-party-5641
END:VEVENT

END:VCALENDAR
