BEGIN:VCALENDAR
VERSION:2.0
PRODID:-//ChamberMaster//Event Calendar 2.0//EN
METHOD:PUBLISH
X-PUBLISHED-TTL:P3D
REFRESH-INTERVAL:P3D
CALSCALE:GREGORIAN
BEGIN:VEVENT
DTSTART:20040914T050000Z
DTEND:20041213T060000Z
X-MICROSOFT-CDO-ALLDAYEVENT:FALSE
SUMMARY:Leadership Jackson Tuition 2004
DESCRIPTION:
X-ALT-DESC;FMTTYPE=text/html:
LOCATION:
UID:e.2827.1789
SEQUENCE:3
DTSTAMP:20260422T073020Z
URL:https://member.jacksontn.com/events/details/leadership-jackson-tuition-2004-09-14-2004-1789
END:VEVENT

END:VCALENDAR
