BEGIN:VCALENDAR
VERSION:2.0
PRODID:-//ChamberMaster//Event Calendar 2.0//EN
METHOD:PUBLISH
X-PUBLISHED-TTL:P3D
REFRESH-INTERVAL:P3D
CALSCALE:GREGORIAN
BEGIN:VEVENT
DTSTART:20190521T220000Z
DTEND:20190522T000000Z
X-MICROSOFT-CDO-ALLDAYEVENT:FALSE
SUMMARY:Leadership Jackson Alumni Association Spring Social
DESCRIPTION:Interested in applying for Leadership Jackson 2019?  Leadership Jackson Alumni Association invites you to come hang out and network!  Meet new friends\, hang out with old friends\, enjoy appetizers and more!
X-ALT-DESC;FMTTYPE=text/html:<span style="font-size:16px\;"><span style="font-family:arial\;">Interested in applying for Leadership Jackson 2019?&nbsp\; Leadership Jackson Alumni Association invites you to come hang out and network!&nbsp\; Meet new friends\, hang out with old friends\, enjoy appetizers and more!</span></span>
LOCATION:Central Distributors Beer Garden 1876 Lager Lane Jackson\, TN 38301
UID:e.2827.6773
SEQUENCE:3
DTSTAMP:20260421T010552Z
URL:https://member.jacksontn.com/events/details/leadership-jackson-alumni-association-spring-social-6773
END:VEVENT

END:VCALENDAR
