BEGIN:VCALENDAR
VERSION:2.0
PRODID:-//ChamberMaster//Event Calendar 2.0//EN
METHOD:PUBLISH
X-PUBLISHED-TTL:P3D
REFRESH-INTERVAL:P3D
CALSCALE:GREGORIAN
BEGIN:VEVENT
DTSTART:20191003T220000Z
DTEND:20191004T000000Z
X-MICROSOFT-CDO-ALLDAYEVENT:FALSE
SUMMARY:Leadership Jackson Alumni Association Fall Social
DESCRIPTION:Join us for the Fall Social! Come meet and mingle and enjoy food\, live music and door prizes.
X-ALT-DESC;FMTTYPE=text/html:<span style="font-size:18px\;"><span style="font-family:arial\;"><span style="color: rgb(28\, 30\, 33)\; white-space: pre-wrap\;">Join us for the Fall Social! Come meet and mingle and enjoy food\, live music and door prizes.</span></span></span>
LOCATION:Carl Perkins Civic Center 400 S Highland Ave Jackson\, TN 38301
UID:e.2827.6797
SEQUENCE:3
DTSTAMP:20260421T200216Z
URL:https://member.jacksontn.com/events/details/leadership-jackson-alumni-association-fall-social-6797
END:VEVENT

END:VCALENDAR
