BEGIN:VCALENDAR
VERSION:2.0
PRODID:-//ChamberMaster//Event Calendar 2.0//EN
METHOD:PUBLISH
X-PUBLISHED-TTL:P3D
REFRESH-INTERVAL:P3D
CALSCALE:GREGORIAN
BEGIN:VEVENT
DTSTART:20161215T233000Z
DTEND:20161216T013000Z
X-MICROSOFT-CDO-ALLDAYEVENT:FALSE
SUMMARY:Leadership Jackson 2016 Graduation
DESCRIPTION:
X-ALT-DESC;FMTTYPE=text/html:
LOCATION:Union University 1050 Union University Dr. Jackson\, TN 38305
UID:e.2827.1787
SEQUENCE:3
DTSTAMP:20260424T151724Z
URL:https://member.jacksontn.com/events/details/leadership-jackson-2016-graduation-12-15-2016-1787
END:VEVENT

END:VCALENDAR
