BEGIN:VCALENDAR
VERSION:2.0
PRODID:-//ChamberMaster//Event Calendar 2.0//EN
METHOD:PUBLISH
X-PUBLISHED-TTL:P3D
REFRESH-INTERVAL:P3D
CALSCALE:GREGORIAN
BEGIN:VEVENT
DTSTART:20051023T000000Z
DTEND:20051022T050000Z
X-MICROSOFT-CDO-ALLDAYEVENT:FALSE
SUMMARY:Kathy Mattea in concert
DESCRIPTION:Tickets $49/$34/$29
X-ALT-DESC;FMTTYPE=text/html:Tickets $49/$34/$29
LOCATION:The Ned R. McWherter Center 314 East Main Street Jackson\, TN 38301
UID:e.2827.1266
SEQUENCE:3
DTSTAMP:20260421T130241Z
URL:https://member.jacksontn.com/events/details/kathy-mattea-in-concert-10-22-2005-1266
END:VEVENT

END:VCALENDAR
