BEGIN:VCALENDAR
VERSION:2.0
PRODID:-//ChamberMaster//Event Calendar 2.0//EN
METHOD:PUBLISH
X-PUBLISHED-TTL:P3D
REFRESH-INTERVAL:P3D
CALSCALE:GREGORIAN
BEGIN:VEVENT
DTSTART:20190725T220000Z
DTEND:20190726T000000Z
X-MICROSOFT-CDO-ALLDAYEVENT:FALSE
SUMMARY:July Business After Hours
DESCRIPTION:This is one of the chamber's largest networking events! Sponsored by Old Hickory Mall at its Pop-Up Shop. Enter the south entrance at JCPenney and Rainbow\, and continue straight to Business After Hours. Come Network with us! \n\n	Make contacts\n	Network\n	Enjoy hors d'oeuvres \n	Free to attend \n	No advance registration
X-ALT-DESC;FMTTYPE=text/html:<span style="font-size: 14px\;"><span style="font-family: arial\;">This is one of the chamber&#39\;s largest networking events! Sponsored by Old Hickory Mall at its Pop-Up Shop.&nbsp\;</span></span><span style="color: rgb(29\, 33\, 41)\; font-family: system-ui\, -apple-system\, system-ui\, &quot\;.SFNSText-Regular&quot\;\, sans-serif\; font-size: 14px\; white-space: pre-wrap\;">Enter the south entrance at JCPenney and Rainbow\, and continue straight to Business After Hours. Come Network with us! </span>\n<ul>\n	<li style="margin: 0px\; font-size: 18px\; line-height: normal\; font-family: &quot\;ITC Avant Garde Gothic&quot\;\; color: rgb(0\, 63\, 105)\;"><span style="font-size: 14px\;"><span style="font-family: arial\;"><span style="color: rgb(0\, 0\, 0)\;">Make contacts</span></span></span></li>\n	<li style="margin: 0px\; font-size: 18px\; line-height: normal\; font-family: &quot\;ITC Avant Garde Gothic&quot\;\; color: rgb(0\, 63\, 105)\;"><span style="font-size: 14px\;"><span style="font-family: arial\;"><span style="color: rgb(0\, 0\, 0)\;">Network</span></span></span></li>\n	<li style="margin: 0px\; font-size: 18px\; line-height: normal\; font-family: &quot\;ITC Avant Garde Gothic&quot\;\; color: rgb(0\, 63\, 105)\;"><span style="font-size: 14px\;"><span style="font-family: arial\;"><span style="color: rgb(0\, 0\, 0)\;">Enjoy hors d&#39\;oeuvres&nbsp\;</span></span></span></li>\n	<li style="margin: 0px\; font-size: 18px\; line-height: normal\; font-family: &quot\;ITC Avant Garde Gothic&quot\;\; color: rgb(0\, 63\, 105)\;"><span style="font-size: 14px\;"><span style="font-family: arial\;"><span style="color: rgb(0\, 0\, 0)\;">Free to attend&nbsp\;</span></span></span></li>\n	<li style="margin: 0px\; font-size: 18px\; line-height: normal\; font-family: &quot\;ITC Avant Garde Gothic&quot\;\; color: rgb(0\, 63\, 105)\;"><span style="font-size: 14px\;"><span style="font-family: arial\;"><span style="color: rgb(0\, 0\, 0)\;">No advance registration</span></span></span></li>\n</ul>\n
LOCATION:Old Hickory Mall (inside the Pop-Up Shop) 2021 N. Highland Ave. Jackson\, TN 38305
UID:e.2827.6761
SEQUENCE:3
DTSTAMP:20260422T085911Z
URL:https://member.jacksontn.com/events/details/july-business-after-hours-6761
END:VEVENT

END:VCALENDAR
