BEGIN:VCALENDAR
VERSION:2.0
PRODID:-//ChamberMaster//Event Calendar 2.0//EN
METHOD:PUBLISH
X-PUBLISHED-TTL:P3D
REFRESH-INTERVAL:P3D
CALSCALE:GREGORIAN
BEGIN:VEVENT
DTSTART:20050413T150000Z
DTEND:20050413T160000Z
X-MICROSOFT-CDO-ALLDAYEVENT:FALSE
SUMMARY:Judging of Door Contest
DESCRIPTION:
X-ALT-DESC;FMTTYPE=text/html:
LOCATION:Highland Park Intermediate School 746 Lexington Ave. Jackson\, TN 38301
UID:e.2827.966
SEQUENCE:3
DTSTAMP:20260421T200354Z
URL:https://member.jacksontn.com/events/details/judging-of-door-contest-04-13-2005-966
END:VEVENT

END:VCALENDAR
