BEGIN:VCALENDAR
VERSION:2.0
PRODID:-//ChamberMaster//Event Calendar 2.0//EN
METHOD:PUBLISH
X-PUBLISHED-TTL:P3D
REFRESH-INTERVAL:P3D
CALSCALE:GREGORIAN
BEGIN:VEVENT
DTSTART:20190131T173000Z
DTEND:20190131T190000Z
X-MICROSOFT-CDO-ALLDAYEVENT:FALSE
SUMMARY:Jackson Young Professionals
DESCRIPTION:Find out how the CO:mobile literally drives programs to Tennesseans \n\nby educating and equipping them for jobs in \n\nSTEAM - Science\, Technology\, Engineering\, Arts and Math.\n\n \nJYP is for emerging business professionals ages 21 -  45. This program is designed to create an avenue for young professionals to connect with networking events\, develop professionally with programs and engage within our community through awareness.\n\n\n\nSponsored by West Tennessee Healthcare\, Alexander Thompson Arnold\, Simmons Bank\, Voya Financial Steve and Brad Little\, Personnel Placements\, and Murray Guard
X-ALT-DESC;FMTTYPE=text/html:<div _mce_style="text-align: center\; font-family: Calibri\, Helvetica\, Arial\, sans-serif\; font-size: 18pt\;" align="center" class="p1" style="color: rgb(0\, 48\, 86)\; text-align: center\; font-family: Calibri\, Helvetica\, Arial\, sans-serif\; font-size: 18pt\;"><span _mce_style="font-size: 14pt\;" style="font-size: 14pt\;">Find out how the<span _mce_style="color: #003056\; font-family: Calibri\, Helvetica\, Arial\, sans-serif\; font-size: 18.6667px\; text-align: center\;">&nbsp\;CO:mobile&nbsp\;</span>literally drives programs to Tennesseans&nbsp\;</span></div>\n\n<div _mce_style="text-align: center\; font-family: Calibri\, Helvetica\, Arial\, sans-serif\; font-size: 18pt\;" align="center" class="p1" style="color: rgb(0\, 48\, 86)\; text-align: center\; font-family: Calibri\, Helvetica\, Arial\, sans-serif\; font-size: 18pt\;"><span _mce_style="font-size: 14pt\;" style="font-size: 14pt\;">by educating and equipping them for jobs in&nbsp\;</span></div>\n\n<div _mce_style="text-align: center\; font-family: Calibri\, Helvetica\, Arial\, sans-serif\; font-size: 18pt\;" align="center" class="p1" style="color: rgb(0\, 48\, 86)\; text-align: center\; font-family: Calibri\, Helvetica\, Arial\, sans-serif\; font-size: 18pt\;"><span _mce_style="font-size: 14pt\;" style="font-size: 14pt\;">STEAM - Science\, Technology\, Engineering\, Arts and Math.</span><br />\n&nbsp\;</div>\n<em style="box-sizing: content-box\; bottom: auto\; clear: none\; color: rgb(68\, 68\, 68)\; content: normal\; direction: inherit\; display: inline\; empty-cells: show\; float: none\; font-variant-numeric: inherit\; font-variant-east-asian: inherit\; font-stretch: inherit\; font-size: 14px\; font-family: Arial\, Helvetica\, sans-serif\; left: auto\; line-height: inherit\; margin: 0px\; max-height: none\; max-width: none\; min-height: initial\; min-width: initial\; opacity: 1\; outline-offset: 0px\; overflow: visible\; padding: 0px\; position: static\; resize: none\; right: auto\; table-layout: auto\; text-overflow: clip\; top: auto\; vertical-align: baseline\; visibility: inherit\; word-break: inherit\; overflow-wrap: inherit\; z-index: auto\; background-image: none\; background-position: initial\; background-size: initial\; background-repeat: initial\; background-attachment: initial\; background-origin: initial\; background-clip: initial\; border: none\; border-collapse: separate\; border-radius: 0px\; height: auto\; width: auto\; box-shadow: none\;">JYP<span style="box-sizing: content-box\; bottom: auto\; clear: none\; color: inherit\; content: normal\; direction: inherit\; empty-cells: show\; font-style: inherit\; font-variant: inherit\; font-weight: inherit\; font-stretch: inherit\; font-size: 12px\; font-family: arial\; left: auto\; letter-spacing: inherit\; line-height: inherit\; margin: 0px\; max-height: none\; max-width: none\; min-height: initial\; min-width: initial\; opacity: 1\; outline-offset: 0px\; overflow: visible\; padding: 0px\; position: static\; resize: none\; right: auto\; table-layout: auto\; text-align: inherit\; text-indent: inherit\; text-overflow: clip\; text-transform: inherit\; top: auto\; vertical-align: baseline\; visibility: inherit\; white-space: inherit\; word-break: inherit\; word-spacing: inherit\; overflow-wrap: inherit\; z-index: auto\; background: none\; border: none\; border-collapse: separate\; border-radius: 0px\; height: auto\; width: auto\; box-shadow: none\;">&nbsp\;is for emerging business professionals ages 21 - &nbsp\;45. This program is designed to create an avenue for young professionals to connect with networking events\, develop professionally with programs and engage within our community through awareness.</span></em><br style="box-sizing: content-box\; bottom: auto\; clear: none\; color: rgb(68\, 68\, 68)\; content: normal\; direction: inherit\; display: inline\; empty-cells: show\; float: none\; font-variant-numeric: inherit\; font-variant-east-asian: inherit\; font-stretch: inherit\; font-size: 14px\; font-family: Arial\, Helvetica\, sans-serif\; left: auto\; line-height: inherit\; margin: 0px\; max-height: none\; max-width: none\; min-height: initial\; min-width: initial\; opacity: 1\; outline-offset: 0px\; overflow: visible\; padding: 0px\; position: static\; resize: none\; right: auto\; table-layout: auto\; text-overflow: clip\; top: auto\; vertical-align: baseline\; visibility: inherit\; word-break: inherit\; overflow-wrap: inherit\; z-index: auto\; background-image: none\; background-position: initial\; background-size: initial\; background-repeat: initial\; background-attachment: initial\; background-origin: initial\; background-clip: initial\; border: none\; border-collapse: separate\; border-radius: 0px\; height: auto\; width: auto\;" />\n<br style="box-sizing: content-box\; bottom: auto\; clear: none\; color: rgb(68\, 68\, 68)\; content: normal\; direction: inherit\; display: inline\; empty-cells: show\; float: none\; font-variant-numeric: inherit\; font-variant-east-asian: inherit\; font-stretch: inherit\; font-size: 14px\; font-family: Arial\, Helvetica\, sans-serif\; left: auto\; line-height: inherit\; margin: 0px\; max-height: none\; max-width: none\; min-height: initial\; min-width: initial\; opacity: 1\; outline-offset: 0px\; overflow: visible\; padding: 0px\; position: static\; resize: none\; right: auto\; table-layout: auto\; text-overflow: clip\; top: auto\; vertical-align: baseline\; visibility: inherit\; word-break: inherit\; overflow-wrap: inherit\; z-index: auto\; background-image: none\; background-position: initial\; background-size: initial\; background-repeat: initial\; background-attachment: initial\; background-origin: initial\; background-clip: initial\; border: none\; border-collapse: separate\; border-radius: 0px\; height: auto\; width: auto\;" />\n<span style="box-sizing: content-box\; bottom: auto\; clear: none\; color: rgb(68\, 68\, 68)\; content: normal\; direction: inherit\; empty-cells: show\; font-variant-numeric: inherit\; font-variant-east-asian: inherit\; font-stretch: inherit\; font-size: 14px\; font-family: Arial\, Helvetica\, sans-serif\; left: auto\; line-height: inherit\; margin: 0px\; max-height: none\; max-width: none\; min-height: initial\; min-width: initial\; opacity: 1\; outline-offset: 0px\; overflow: visible\; padding: 0px\; position: static\; resize: none\; right: auto\; table-layout: auto\; text-overflow: clip\; top: auto\; vertical-align: baseline\; visibility: inherit\; word-break: inherit\; overflow-wrap: inherit\; z-index: auto\; background-image: none\; background-position: initial\; background-size: initial\; background-repeat: initial\; background-attachment: initial\; background-origin: initial\; background-clip: initial\; border: none\; border-collapse: separate\; border-radius: 0px\; height: auto\; width: auto\; box-shadow: none\;"><span style="box-sizing: content-box\; bottom: auto\; clear: none\; color: inherit\; content: normal\; direction: inherit\; empty-cells: show\; font-style: inherit\; font-variant: inherit\; font-weight: inherit\; font-stretch: inherit\; font-size: inherit\; font-family: arial\; left: auto\; letter-spacing: inherit\; line-height: inherit\; margin: 0px\; max-height: none\; max-width: none\; min-height: initial\; min-width: initial\; opacity: 1\; outline-offset: 0px\; overflow: visible\; padding: 0px\; position: static\; resize: none\; right: auto\; table-layout: auto\; text-align: inherit\; text-indent: inherit\; text-overflow: clip\; text-transform: inherit\; top: auto\; vertical-align: baseline\; visibility: inherit\; white-space: inherit\; word-break: inherit\; word-spacing: inherit\; overflow-wrap: inherit\; z-index: auto\; background: none\; border: none\; border-collapse: separate\; border-radius: 0px\; height: auto\; width: auto\; box-shadow: none\;">Sponsored by West Tennessee Healthcare\, Alexander Thompson Arnold\, Simmons Bank\, Voya Financial Steve and Brad Little\, Personnel Placements\, and Murray Guard</span></span>
LOCATION:Carl Grant Events Center\, Union University 1050 Union University Dr. Jackson\, TN 38305
UID:e.2827.6737
SEQUENCE:3
DTSTAMP:20260422T212415Z
URL:https://member.jacksontn.com/events/details/jackson-young-professionals-6737
END:VEVENT

END:VCALENDAR
