BEGIN:VCALENDAR
VERSION:2.0
PRODID:-//ChamberMaster//Event Calendar 2.0//EN
METHOD:PUBLISH
X-PUBLISHED-TTL:P3D
REFRESH-INTERVAL:P3D
CALSCALE:GREGORIAN
BEGIN:VEVENT
DTSTART:20170921T163000Z
DTEND:20170921T180000Z
X-MICROSOFT-CDO-ALLDAYEVENT:FALSE
SUMMARY:Jackson Young Professionals
DESCRIPTION:Relive West Tennessee's musical heritage as Dr. Jeremy Tubbs\, University of Memphis-Lambuth and Jackson Area Music Society\, provides an all-access journey.
X-ALT-DESC;FMTTYPE=text/html:<p style="margin: 0px\; font-size: 18px\; line-height: normal\; font-family: 'Arial Narrow'\; color: rgb(0\, 94\, 222)\;"><span style="color:#000000\;"><span style="font-size:14px\;"><span style="font-family:arial\;"><span style="letter-spacing: 0.5px">Relive West Tennessee&rsquo\;s musical heritage as Dr. Jeremy Tubbs\, </span></span></span></span><span style="letter-spacing: 0.5px"><span style="color:#000000\;"><span style="font-size:14px\;"><span style="font-family:arial\;">University</span></span></span><span style="color:#000000\;"><span style="font-size:14px\;"><span style="font-family:arial\;"> of Memphis-Lambuth and Jackson Area Music </span></span></span><span style="color:#000000\;"><span style="font-size:14px\;"><span style="font-family:arial\;">Society\,</span></span></span><span style="color:#000000\;"><span style="font-size:14px\;"><span style="font-family:arial\;"> provides an </span></span></span><span style="color:#000000\;"><span style="font-size:14px\;"><span style="font-family:arial\;">all-access</span></span></span></span><span style="color:#000000\;"><span style="font-size:14px\;"><span style="font-family:arial\;"><span style="letter-spacing: 0.5px"> journey.</span></span></span></span></p>\n\n<div>&nbsp\;</div>\n
LOCATION:Carl Grant Event Center Union University
UID:e.2827.3438
SEQUENCE:3
DTSTAMP:20260424T010027Z
URL:https://member.jacksontn.com/events/details/jackson-young-professionals-3438
END:VEVENT

END:VCALENDAR
