BEGIN:VCALENDAR
VERSION:2.0
PRODID:-//ChamberMaster//Event Calendar 2.0//EN
METHOD:PUBLISH
X-PUBLISHED-TTL:P3D
REFRESH-INTERVAL:P3D
CALSCALE:GREGORIAN
BEGIN:VEVENT
DTSTART:20150514T163000Z
DTEND:20150514T180000Z
X-MICROSOFT-CDO-ALLDAYEVENT:FALSE
SUMMARY:Jackson Young Professionals
DESCRIPTION:Jackson is fortunate to have so many wonderful young professionals in our area.  In recognizing the value of such a group\, The Chamber has started a new program called U40\, which stands for "Under Forty." This program is designed to encourage and motivate young professionals to continue doing great things in the area.  Meeting every other month\, U40 will be comprised of lunch\, networking and valuable insight from seasoned entrepreneurs in Jackson and the surrounding area. The program costs $15 for Chamber members and $25 for non-members.
X-ALT-DESC;FMTTYPE=text/html:Jackson is fortunate to have so many wonderful young professionals in our area.  In recognizing the value of such a group\, The Chamber has started a new program called U40\, which stands for "Under Forty." This program is designed to encourage and motivate young professionals to continue doing great things in the area.  Meeting every other month\, U40 will be comprised of lunch\, networking and valuable insight from seasoned entrepreneurs in Jackson and the surrounding area. The program costs $15 for Chamber members and $25 for non-members.
LOCATION:Union University 1050 Union University Dr. Jackson\, TN 38305
UID:e.2827.1762
SEQUENCE:3
DTSTAMP:20260425T174956Z
URL:https://member.jacksontn.com/events/details/jackson-young-professionals-05-14-2015-1762
END:VEVENT

END:VCALENDAR
