BEGIN:VCALENDAR
VERSION:2.0
PRODID:-//ChamberMaster//Event Calendar 2.0//EN
METHOD:PUBLISH
X-PUBLISHED-TTL:P3D
REFRESH-INTERVAL:P3D
CALSCALE:GREGORIAN
BEGIN:VEVENT
DTSTART:20051012T000000Z
DTEND:20051011T050000Z
X-MICROSOFT-CDO-ALLDAYEVENT:FALSE
SUMMARY:Jackson Symphony Youth Orchestra Fall Concert
DESCRIPTION:Free admission. The Jackson Symphony Youth Orchestra and Sinfonia Strings present their fall concert
X-ALT-DESC;FMTTYPE=text/html:Free admission. The Jackson Symphony Youth Orchestra and Sinfonia Strings present their fall concert
LOCATION:Northside United Methodist Church North Highland Avenue Jackson\, TN 38305
UID:e.2827.1252
SEQUENCE:3
DTSTAMP:20260421T130441Z
URL:https://member.jacksontn.com/events/details/jackson-symphony-youth-orchestra-fall-concert-10-11-2005-1252
END:VEVENT

END:VCALENDAR
