BEGIN:VCALENDAR
VERSION:2.0
PRODID:-//ChamberMaster//Event Calendar 2.0//EN
METHOD:PUBLISH
X-PUBLISHED-TTL:P3D
REFRESH-INTERVAL:P3D
CALSCALE:GREGORIAN
BEGIN:VEVENT
DTSTART:20051003T140000Z
DTEND:20051031T220000Z
X-MICROSOFT-CDO-ALLDAYEVENT:FALSE
SUMMARY:JAA Juried Fall Show
DESCRIPTION:Free admission
X-ALT-DESC;FMTTYPE=text/html:Free admission
LOCATION:The Ned R. McWherter Center
UID:e.2827.1247
SEQUENCE:3
DTSTAMP:20260421T113823Z
URL:https://member.jacksontn.com/events/details/jaa-juried-fall-show-10-03-2005-1247
END:VEVENT

END:VCALENDAR
