BEGIN:VCALENDAR
VERSION:2.0
PRODID:-//ChamberMaster//Event Calendar 2.0//EN
METHOD:PUBLISH
X-PUBLISHED-TTL:P3D
REFRESH-INTERVAL:P3D
CALSCALE:GREGORIAN
BEGIN:VEVENT
DTSTART:20050316T000000Z
DTEND:20050316T020000Z
X-MICROSOFT-CDO-ALLDAYEVENT:FALSE
SUMMARY:Inhalant Abuse Awareness Workshop
DESCRIPTION:Inhalant abuse has been called the "silent epidemic."  Few parents and teachers realize that "huffing" is going on in their own homes and schools.  The products  that are huffed are as close as the kitchen sink\, bathroom or storage facility.  It is also a deadly practice since a person can die on the "first try."  So little is known about it by the public\, parents and educators that the Community Anti-Drug Coalition and JACOA are teaming up to present a community awareness workshop on March 15\, 2005 at Liberty High School Auditorium  from 6:00-8:00 pm.  The workshop is free and the public is invited.
X-ALT-DESC;FMTTYPE=text/html:Inhalant abuse has been called the "silent epidemic."  Few parents and teachers realize that "huffing" is going on in their own homes and schools.  The products  that are huffed are as close as the kitchen sink\, bathroom or storage facility.  It is also a deadly practice since a person can die on the "first try."  So little is known about it by the public\, parents and educators that the Community Anti-Drug Coalition and JACOA are teaming up to present a community awareness workshop on March 15\, 2005 at Liberty High School Auditorium  from 6:00-8:00 pm.  The workshop is free and the public is invited.
LOCATION:Liberty High School Auditorium
UID:e.2827.914
SEQUENCE:3
DTSTAMP:20260422T021435Z
URL:https://member.jacksontn.com/events/details/inhalant-abuse-awareness-workshop-03-15-2005-914
END:VEVENT

END:VCALENDAR
