BEGIN:VCALENDAR
VERSION:2.0
PRODID:-//ChamberMaster//Event Calendar 2.0//EN
METHOD:PUBLISH
X-PUBLISHED-TTL:P3D
REFRESH-INTERVAL:P3D
CALSCALE:GREGORIAN
BEGIN:VEVENT
DTSTART;VALUE=DATE:20050301
DTEND;VALUE=DATE:20050401
TRANSP:TRANSPARENT
X-MICROSOFT-CDO-ALLDAYEVENT:TRUE
SUMMARY:''In Print 2005''
DESCRIPTION:Original work of printmakers from the U.S. & Latin America. Free admission. Mon-Fri\, 9 a.m.- 4:30 p.m.
X-ALT-DESC;FMTTYPE=text/html:Original work of printmakers from the U.S. & Latin America. Free admission. Mon-Fri\, 9 a.m.- 4:30 p.m.
LOCATION:The Ned R. McWherter West TN Cultural Arts Center 314 E. Main Jackson\, TN 38301
UID:e.2827.876
SEQUENCE:3
DTSTAMP:20260421T230759Z
URL:https://member.jacksontn.com/events/details/in-print-2005-03-01-2005-876
END:VEVENT

END:VCALENDAR
