BEGIN:VCALENDAR
VERSION:2.0
PRODID:-//ChamberMaster//Event Calendar 2.0//EN
METHOD:PUBLISH
X-PUBLISHED-TTL:P3D
REFRESH-INTERVAL:P3D
CALSCALE:GREGORIAN
BEGIN:VEVENT
DTSTART:20050913T233000Z
DTEND:20050913T050000Z
X-MICROSOFT-CDO-ALLDAYEVENT:FALSE
SUMMARY:IAAP Open House
DESCRIPTION:Join the Jackson Chapter of IAAP for open house. Learn about the organization and how it can help you advance in your career. A light buffet will be served. Door prizes.
X-ALT-DESC;FMTTYPE=text/html:Join the Jackson Chapter of IAAP for open house. Learn about the organization and how it can help you advance in your career. A light buffet will be served. Door prizes.
LOCATION:Holiday Inn Carriage House Drive Jackson\, TN
UID:e.2827.1239
SEQUENCE:3
DTSTAMP:20260421T171752Z
URL:https://member.jacksontn.com/events/details/iaap-open-house-09-13-2005-1239
END:VEVENT

END:VCALENDAR
