BEGIN:VCALENDAR
VERSION:2.0
PRODID:-//ChamberMaster//Event Calendar 2.0//EN
METHOD:PUBLISH
X-PUBLISHED-TTL:P3D
REFRESH-INTERVAL:P3D
CALSCALE:GREGORIAN
BEGIN:VEVENT
DTSTART:20050430T150000Z
DTEND:20050430T190000Z
X-MICROSOFT-CDO-ALLDAYEVENT:FALSE
SUMMARY:Humane Society Adoption Day
DESCRIPTION:April 30th is National Pet Adoption Day. For every pet adoped at Petsmart on this date\, Petsmart will donate $10 to the shelter.
X-ALT-DESC;FMTTYPE=text/html:April 30th is National Pet Adoption Day. For every pet adoped at Petsmart on this date\, Petsmart will donate $10 to the shelter.
LOCATION:PetSmart & Petco
UID:e.2827.960
SEQUENCE:3
DTSTAMP:20260421T213658Z
URL:https://member.jacksontn.com/events/details/humane-society-adoption-day-04-30-2005-960
END:VEVENT

END:VCALENDAR
