BEGIN:VCALENDAR
VERSION:2.0
PRODID:-//ChamberMaster//Event Calendar 2.0//EN
METHOD:PUBLISH
X-PUBLISHED-TTL:P3D
REFRESH-INTERVAL:P3D
CALSCALE:GREGORIAN
BEGIN:VEVENT
DTSTART:20050409T150000Z
DTEND:20050409T190000Z
X-MICROSOFT-CDO-ALLDAYEVENT:FALSE
SUMMARY:Humane Society Adoption Day
DESCRIPTION:
X-ALT-DESC;FMTTYPE=text/html:
LOCATION:Petco 187 Stonebrook Place Jackson\, TN 38305
UID:e.2827.959
SEQUENCE:3
DTSTAMP:20260421T213805Z
URL:https://member.jacksontn.com/events/details/humane-society-adoption-day-04-09-2005-959
END:VEVENT

END:VCALENDAR
