BEGIN:VCALENDAR
VERSION:2.0
PRODID:-//ChamberMaster//Event Calendar 2.0//EN
METHOD:PUBLISH
X-PUBLISHED-TTL:P3D
REFRESH-INTERVAL:P3D
CALSCALE:GREGORIAN
BEGIN:VEVENT
DTSTART:20051004T140000Z
DTEND:20051130T223000Z
X-MICROSOFT-CDO-ALLDAYEVENT:FALSE
SUMMARY:Howard Keas Exhibit
DESCRIPTION:Free admission
X-ALT-DESC;FMTTYPE=text/html:Free admission
LOCATION:The Ned R. McWherter Center
UID:e.2827.1248
SEQUENCE:3
DTSTAMP:20260421T113625Z
URL:https://member.jacksontn.com/events/details/howard-keas-exhibit-10-04-2005-1248
END:VEVENT

END:VCALENDAR
