BEGIN:VCALENDAR
VERSION:2.0
PRODID:-//ChamberMaster//Event Calendar 2.0//EN
METHOD:PUBLISH
X-PUBLISHED-TTL:P3D
REFRESH-INTERVAL:P3D
CALSCALE:GREGORIAN
BEGIN:VEVENT
DTSTART:20050423T130000Z
DTEND:20050423T180000Z
X-MICROSOFT-CDO-ALLDAYEVENT:FALSE
SUMMARY:Household Hazardous Waste Collection Day
DESCRIPTION:Free. The collection site will accept household cleaners\, such as drain and oven cleaners\; paint\, thinner and other home improvement products\; herbicides\, pesticides\, and other lawn and garden products\; waste oil\; antifreeze and other automotive products\; tires\, batteries\, pool chemicals and other miscellaneous products.
X-ALT-DESC;FMTTYPE=text/html:Free. The collection site will accept household cleaners\, such as drain and oven cleaners\; paint\, thinner and other home improvement products\; herbicides\, pesticides\, and other lawn and garden products\; waste oil\; antifreeze and other automotive products\; tires\, batteries\, pool chemicals and other miscellaneous products.
LOCATION:Jackson Fairgrounds Park
UID:e.2827.938
SEQUENCE:3
DTSTAMP:20260421T200338Z
URL:https://member.jacksontn.com/events/details/household-hazardous-waste-collection-day-04-23-2005-938
END:VEVENT

END:VCALENDAR
