BEGIN:VCALENDAR
VERSION:2.0
PRODID:-//ChamberMaster//Event Calendar 2.0//EN
METHOD:PUBLISH
X-PUBLISHED-TTL:P3D
REFRESH-INTERVAL:P3D
CALSCALE:GREGORIAN
BEGIN:VEVENT
DTSTART:20051118T190000Z
DTEND:20051118T230000Z
X-MICROSOFT-CDO-ALLDAYEVENT:FALSE
SUMMARY:Groves Press Community Printmaking Workshop
DESCRIPTION:Free admission. Monthly community printmaking workshop - collagraph\, relief cuts\, intaglio and plate litho.
X-ALT-DESC;FMTTYPE=text/html:Free admission. Monthly community printmaking workshop - collagraph\, relief cuts\, intaglio and plate litho.
LOCATION:The Art Studio at JSCC 2046 North Parkway Jackson\, TN 38301
UID:e.2827.1326
SEQUENCE:3
DTSTAMP:20260424T021358Z
URL:https://member.jacksontn.com/events/details/groves-press-community-printmaking-workshop-11-18-2005-1326
END:VEVENT

END:VCALENDAR
