BEGIN:VCALENDAR
VERSION:2.0
PRODID:-//ChamberMaster//Event Calendar 2.0//EN
METHOD:PUBLISH
X-PUBLISHED-TTL:P3D
REFRESH-INTERVAL:P3D
CALSCALE:GREGORIAN
BEGIN:VEVENT
DTSTART:20051014T180000Z
DTEND:20051014T220000Z
X-MICROSOFT-CDO-ALLDAYEVENT:FALSE
SUMMARY:''Groves Press Community Printmaking Workshop''
DESCRIPTION:Free admission. Monthly community printmaking workshop - collagraph\, relief cuts\, intaglio & plate litho.
X-ALT-DESC;FMTTYPE=text/html:Free admission. Monthly community printmaking workshop - collagraph\, relief cuts\, intaglio & plate litho.
LOCATION:JSCC Art Studio 2046 North Parkway Jackson\, TN 38301
UID:e.2827.1267
SEQUENCE:3
DTSTAMP:20260421T113626Z
URL:https://member.jacksontn.com/events/details/groves-press-community-printmaking-workshop-10-14-2005-1267
END:VEVENT

END:VCALENDAR
