BEGIN:VCALENDAR
VERSION:2.0
PRODID:-//ChamberMaster//Event Calendar 2.0//EN
METHOD:PUBLISH
X-PUBLISHED-TTL:P3D
REFRESH-INTERVAL:P3D
CALSCALE:GREGORIAN
BEGIN:VEVENT
DTSTART:20051019T193000Z
DTEND:20051019T203000Z
X-MICROSOFT-CDO-ALLDAYEVENT:FALSE
SUMMARY:Ground Breaking
DESCRIPTION:
X-ALT-DESC;FMTTYPE=text/html:
LOCATION:Patriot Equity Credit Union Corner of Dr. King & Institute Streets Jackson\, TN 38301
UID:e.2827.1279
SEQUENCE:3
DTSTAMP:20260421T125117Z
URL:https://member.jacksontn.com/events/details/ground-breaking-10-19-2005-1279
END:VEVENT

END:VCALENDAR
