BEGIN:VCALENDAR
VERSION:2.0
PRODID:-//ChamberMaster//Event Calendar 2.0//EN
METHOD:PUBLISH
X-PUBLISHED-TTL:P3D
REFRESH-INTERVAL:P3D
CALSCALE:GREGORIAN
BEGIN:VEVENT
DTSTART:20050624T150000Z
DTEND:20050624T160000Z
X-MICROSOFT-CDO-ALLDAYEVENT:FALSE
SUMMARY:Ground Breaking
DESCRIPTION:
X-ALT-DESC;FMTTYPE=text/html:
LOCATION:Jackson-Madison County General Hospital New Tower 708 W. Forest Aven Jackson\, TN 38301
UID:e.2827.1075
SEQUENCE:3
DTSTAMP:20260421T200015Z
URL:https://member.jacksontn.com/events/details/ground-breaking-06-24-2005-1075
END:VEVENT

END:VCALENDAR
