BEGIN:VCALENDAR
VERSION:2.0
PRODID:-//ChamberMaster//Event Calendar 2.0//EN
METHOD:PUBLISH
X-PUBLISHED-TTL:P3D
REFRESH-INTERVAL:P3D
CALSCALE:GREGORIAN
BEGIN:VEVENT
DTSTART:20050311T230000Z
DTEND:20050312T000000Z
X-MICROSOFT-CDO-ALLDAYEVENT:FALSE
SUMMARY:''Gifts of Christmas: Giving Gifts Without Breaking the Bank''
DESCRIPTION:Free workshop focusing on gift buying throughout the year to save money. Limited to 15 people. Call to register.
X-ALT-DESC;FMTTYPE=text/html:Free workshop focusing on gift buying throughout the year to save money. Limited to 15 people. Call to register.
LOCATION:The Meeting Place 180 W. University Parkway Jackson\, TN 38305
UID:e.2827.912
SEQUENCE:3
DTSTAMP:20260421T213952Z
URL:https://member.jacksontn.com/events/details/gifts-of-christmas-giving-gifts-without-breaking-the-bank-03-11-2005-912
END:VEVENT

END:VCALENDAR
