BEGIN:VCALENDAR
VERSION:2.0
PRODID:-//ChamberMaster//Event Calendar 2.0//EN
METHOD:PUBLISH
X-PUBLISHED-TTL:P3D
REFRESH-INTERVAL:P3D
CALSCALE:GREGORIAN
BEGIN:VEVENT
DTSTART:20050421T230000Z
DTEND:20050422T010000Z
X-MICROSOFT-CDO-ALLDAYEVENT:FALSE
SUMMARY:''Getting Back to Normal''
DESCRIPTION:Presented by Hospice of West Tennessee. A session designed to help people who have lost loved ones. The speaker will be Bruce Pigue\, a hospice social worker. First in a series. The sessions are free and the public is encouraged to attend.
X-ALT-DESC;FMTTYPE=text/html:Presented by Hospice of West Tennessee. A session designed to help people who have lost loved ones. The speaker will be Bruce Pigue\, a hospice social worker. First in a series. The sessions are free and the public is encouraged to attend.
LOCATION:West Tennessee Healthcare Building 1804 Highway 45 By-Pass Jackson\, TN
UID:e.2827.1022
SEQUENCE:3
DTSTAMP:20260421T200014Z
URL:https://member.jacksontn.com/events/details/getting-back-to-normal-04-21-2005-1022
END:VEVENT

END:VCALENDAR
