BEGIN:VCALENDAR
VERSION:2.0
PRODID:-//ChamberMaster//Event Calendar 2.0//EN
METHOD:PUBLISH
X-PUBLISHED-TTL:P3D
REFRESH-INTERVAL:P3D
CALSCALE:GREGORIAN
BEGIN:VEVENT
DTSTART:20050421T230000Z
DTEND:20050421T050000Z
X-MICROSOFT-CDO-ALLDAYEVENT:FALSE
SUMMARY:Gathering of Poets: James Scruton\, Bill Brown\, Jeff Hardin
DESCRIPTION:Free admission. Poetry readings by Tennessee poets.
X-ALT-DESC;FMTTYPE=text/html:Free admission. Poetry readings by Tennessee poets.
LOCATION:Jackson Madison County Library 433 E. Lafayette Jackson\, TN 38301
UID:e.2827.947
SEQUENCE:3
DTSTAMP:20260421T200450Z
URL:https://member.jacksontn.com/events/details/gathering-of-poets-james-scruton-bill-brown-jeff-hardin-04-21-2005-947
END:VEVENT

END:VCALENDAR
