BEGIN:VCALENDAR
VERSION:2.0
PRODID:-//ChamberMaster//Event Calendar 2.0//EN
METHOD:PUBLISH
X-PUBLISHED-TTL:P3D
REFRESH-INTERVAL:P3D
CALSCALE:GREGORIAN
BEGIN:VEVENT
DTSTART;VALUE=DATE:20050804
DTEND;VALUE=DATE:20050808
TRANSP:TRANSPARENT
X-MICROSOFT-CDO-ALLDAYEVENT:TRUE
SUMMARY:Funny Girl
DESCRIPTION:Non-musical tickets are $12 in advance\, $15 at the door and $8 for students and seniors. Tickets for musicals are $15 in advance\, $18 at the door and $10 for students and seniors. Tickets can be purchased at King Jewelers on Conrad or online at www.jtgonline.com. Show times are: 8 p.m. Thurs - Sat\, and 2:30 p.m. for Sat & Sun. matinees.
X-ALT-DESC;FMTTYPE=text/html:Non-musical tickets are $12 in advance\, $15 at the door and $8 for students and seniors. Tickets for musicals are $15 in advance\, $18 at the door and $10 for students and seniors. Tickets can be purchased at King Jewelers on Conrad or online at www.jtgonline.com. Show times are: 8 p.m. Thurs - Sat\, and 2:30 p.m. for Sat & Sun. matinees.
LOCATION:The Ned R. McWherter Cultural Arts Center 314 E. Main Street Jackson\, TN 38302
UID:e.2827.955
SEQUENCE:3
DTSTAMP:20260421T154508Z
URL:https://member.jacksontn.com/events/details/funny-girl-08-04-2005-955
END:VEVENT

END:VCALENDAR
