BEGIN:VCALENDAR
VERSION:2.0
PRODID:-//ChamberMaster//Event Calendar 2.0//EN
METHOD:PUBLISH
X-PUBLISHED-TTL:P3D
REFRESH-INTERVAL:P3D
CALSCALE:GREGORIAN
BEGIN:VEVENT
DTSTART:20051001T170000Z
DTEND:20051001T050000Z
X-MICROSOFT-CDO-ALLDAYEVENT:FALSE
SUMMARY:Friends of the Library Book Review
DESCRIPTION:Free admission. Monthly book review
X-ALT-DESC;FMTTYPE=text/html:Free admission. Monthly book review
LOCATION:Jackson Madison County Library 433 E. Lafayette Jackson\, TN 38301
UID:e.2827.1245
SEQUENCE:3
DTSTAMP:20260421T143435Z
URL:https://member.jacksontn.com/events/details/friends-of-the-library-book-review-10-01-2005-1245
END:VEVENT

END:VCALENDAR
