BEGIN:VCALENDAR
VERSION:2.0
PRODID:-//ChamberMaster//Event Calendar 2.0//EN
METHOD:PUBLISH
X-PUBLISHED-TTL:P3D
REFRESH-INTERVAL:P3D
CALSCALE:GREGORIAN
BEGIN:VEVENT
DTSTART;VALUE=DATE:20050805
DTEND;VALUE=DATE:20050808
TRANSP:TRANSPARENT
X-MICROSOFT-CDO-ALLDAYEVENT:TRUE
SUMMARY:Friendly Frank's Flea Market
DESCRIPTION:Friday - 5 p.m.-9 p.m.\, Saturday - 9 a.m. - 6 p.m.\, Sunday - 9 a.m. - 5 p.m.
X-ALT-DESC;FMTTYPE=text/html:Friday - 5 p.m.-9 p.m.\, Saturday - 9 a.m. - 6 p.m.\, Sunday - 9 a.m. - 5 p.m.
LOCATION:Jackson Fairgrounds Park 800 S. Highland Jackson\, TN
UID:e.2827.1049
SEQUENCE:3
DTSTAMP:20260421T182307Z
URL:https://member.jacksontn.com/events/details/friendly-frank-s-flea-market-08-05-2005-1049
END:VEVENT

END:VCALENDAR
