BEGIN:VCALENDAR
VERSION:2.0
PRODID:-//ChamberMaster//Event Calendar 2.0//EN
METHOD:PUBLISH
X-PUBLISHED-TTL:P3D
REFRESH-INTERVAL:P3D
CALSCALE:GREGORIAN
BEGIN:VEVENT
DTSTART:20050428T170000Z
DTEND:20050428T180000Z
X-MICROSOFT-CDO-ALLDAYEVENT:FALSE
SUMMARY:FREE MBA Information Luncheon
DESCRIPTION:A drop-by evening session will be held from 4:00 p.m. to 6:00 p.m. at the UT Martin Jackson Center\, located at 2468 Technology Center Drive (near the airport). For more information and to reserve a lunch\, call 731.425.9277 or 888-UTM-GRAD
X-ALT-DESC;FMTTYPE=text/html:A drop-by evening session will be held from 4:00 p.m. to 6:00 p.m. at the UT Martin Jackson Center\, located at 2468 Technology Center Drive (near the airport). For more information and to reserve a lunch\, call 731.425.9277 or 888-UTM-GRAD
LOCATION:Old Country Store 30 Casey Jones Lane Jackson\, TN
UID:e.2827.1007
SEQUENCE:3
DTSTAMP:20260421T213657Z
URL:https://member.jacksontn.com/events/details/free-mba-information-luncheon-04-28-2005-1007
END:VEVENT

END:VCALENDAR
