BEGIN:VCALENDAR
VERSION:2.0
PRODID:-//ChamberMaster//Event Calendar 2.0//EN
METHOD:PUBLISH
X-PUBLISHED-TTL:P3D
REFRESH-INTERVAL:P3D
CALSCALE:GREGORIAN
BEGIN:VEVENT
DTSTART:20050617T000000Z
DTEND:20050616T050000Z
X-MICROSOFT-CDO-ALLDAYEVENT:FALSE
SUMMARY:Free Fibromyalgia Workshop
DESCRIPTION:This workshop will uncover the reasons behind the onset of this condition and provide natural non-drug solutions. Seating limited\, call now to reserve your space
X-ALT-DESC;FMTTYPE=text/html:This workshop will uncover the reasons behind the onset of this condition and provide natural non-drug solutions. Seating limited\, call now to reserve your space
LOCATION:AquaTherapies 614 F Carriage House Drive Jackson\, TN
UID:e.2827.1100
SEQUENCE:3
DTSTAMP:20260421T182159Z
URL:https://member.jacksontn.com/events/details/free-fibromyalgia-workshop-06-16-2005-1100
END:VEVENT

END:VCALENDAR
