BEGIN:VCALENDAR
VERSION:2.0
PRODID:-//ChamberMaster//Event Calendar 2.0//EN
METHOD:PUBLISH
X-PUBLISHED-TTL:P3D
REFRESH-INTERVAL:P3D
CALSCALE:GREGORIAN
BEGIN:VEVENT
DTSTART:20050517T130000Z
DTEND:20050517T160000Z
X-MICROSOFT-CDO-ALLDAYEVENT:FALSE
SUMMARY:Free Eye Screening
DESCRIPTION:East Jackson Family Medical Center invites people without insurance or without eye care insurance to a free vision screening. This service is partnership with the Prevent Blindness Tennessee program. Appointments are required.
X-ALT-DESC;FMTTYPE=text/html:East Jackson Family Medical Center invites people without insurance or without eye care insurance to a free vision screening. This service is partnership with the Prevent Blindness Tennessee program. Appointments are required.
LOCATION:East Jackson Family Medical Center 655 Lexington Ave Jackson\, TN
UID:e.2827.1031
SEQUENCE:3
DTSTAMP:20260421T182210Z
URL:https://member.jacksontn.com/events/details/free-eye-screening-05-17-2005-1031
END:VEVENT

END:VCALENDAR
