BEGIN:VCALENDAR
VERSION:2.0
PRODID:-//ChamberMaster//Event Calendar 2.0//EN
METHOD:PUBLISH
X-PUBLISHED-TTL:P3D
REFRESH-INTERVAL:P3D
CALSCALE:GREGORIAN
BEGIN:VEVENT
DTSTART:20190218T170000Z
DTEND:20190218T220000Z
X-MICROSOFT-CDO-ALLDAYEVENT:FALSE
SUMMARY:FREE Community ACT
DESCRIPTION:Jackson Chamber members - this FREE Community ACT will determine baseline scores for your rising 9th\, 10th and 11th grade students. Sponsored by Class 101 and the Jackson Chamber. Call and reserve a seat at 731-868-4688.
X-ALT-DESC;FMTTYPE=text/html:<span style="color: rgb(29\, 33\, 41)\; font-family: system-ui\, -apple-system\, system-ui\, &quot\;.SFNSText-Regular&quot\;\, sans-serif\; font-size: 14px\; white-space: pre-wrap\;">Jackson Chamber members - this FREE Community ACT will determine baseline scores for your rising 9th\, 10th and 11th grade students. Sponsored by Class 101 and the Jackson Chamber. Call and reserve a seat at 731-868-4688.</span>
LOCATION:Jackson Chamber 197 Auditorium St. Jackson\, TN 38301
UID:e.2827.6756
SEQUENCE:3
DTSTAMP:20260422T212421Z
URL:https://member.jacksontn.com/events/details/free-community-act-6756
END:VEVENT

END:VCALENDAR
