BEGIN:VCALENDAR
VERSION:2.0
PRODID:-//ChamberMaster//Event Calendar 2.0//EN
METHOD:PUBLISH
X-PUBLISHED-TTL:P3D
REFRESH-INTERVAL:P3D
CALSCALE:GREGORIAN
BEGIN:VEVENT
DTSTART:20190916T180000Z
DTEND:20190917T170000Z
X-MICROSOFT-CDO-ALLDAYEVENT:FALSE
SUMMARY:Forward Jackson 3.0 Planning Session
DESCRIPTION:Join us for these two half-day sessions to help design the chamber's strategic action plan for 2021-2026.
X-ALT-DESC;FMTTYPE=text/html:<span style="font-size:14px\;"><span style="font-family:arial\;"><strong><em><span style="color:#003056\;">Join us for these two&nbsp\;half-day sessions to help&nbsp\;</span></em></strong><strong><em><span style="color:#003056\;">design the chamber&#39\;s strategic action plan for 2021-2026.</span></em></strong></span></span>
LOCATION:JEA Training Center\, 320 Hwy. 45 Bypass
UID:e.2827.6792
SEQUENCE:3
DTSTAMP:20260422T074621Z
URL:https://member.jacksontn.com/events/details/forward-jackson-3-0-planning-session-6792
END:VEVENT

END:VCALENDAR
