BEGIN:VCALENDAR
VERSION:2.0
PRODID:-//ChamberMaster//Event Calendar 2.0//EN
METHOD:PUBLISH
X-PUBLISHED-TTL:P3D
REFRESH-INTERVAL:P3D
CALSCALE:GREGORIAN
BEGIN:VEVENT
DTSTART:20180301T160000Z
DTEND:20180301T163000Z
X-MICROSOFT-CDO-ALLDAYEVENT:FALSE
SUMMARY:Air Choice One's First Flight to Atlanta
DESCRIPTION:Join us for a ribbon cutting to celebrate the \n\nfirst flight to Atlanta with Air Choice One.\n\n \n\nAnd Register to WIN 2 FREE TICKETS to Atlanta!
X-ALT-DESC;FMTTYPE=text/html:<div style="color: rgb(27\, 103\, 170)\; font-family: Arial\, Helvetica\, sans-serif\; font-size: 21.33333396911621px\; text-align: center\;">\n<div style="margin: 0px\; font-stretch: normal\; font-size: 12px\; line-height: normal\; font-family: Calibri\; color: rgb(31\, 125\, 185)\; text-align: left\;"><span style="font-size:16px\;"><span style="font-family:arial\;"><b>Join us for a ribbon cutting to celebrate the&nbsp\;</b></span></span></div>\n\n<div style="margin: 0px\; font-stretch: normal\; font-size: 12px\; line-height: normal\; font-family: Calibri\; color: rgb(31\, 125\, 185)\; text-align: left\;"><span style="font-size:16px\;"><span style="font-family:arial\;"><b>first flight to Atlanta with Air Choice One.</b></span></span></div>\n\n<div style="margin: 0px\; font-stretch: normal\; font-size: 12px\; line-height: normal\; font-family: Calibri\; min-height: 14px\; text-align: left\;">&nbsp\;</div>\n\n<div style="margin: 0px\; font-stretch: normal\; font-size: 12px\; line-height: normal\; font-family: Calibri\; color: rgb(153\, 155\, 158)\; text-align: left\;"><span style="font-size:16px\;"><span style="font-family:arial\;"><b>And Register to </b><span style="color: #87a50e"><b>WIN 2 FREE TICKETS</b></span><b> to Atlanta!</b></span></span></div>\n</div>\n
LOCATION:McKellar-Sipes Regional Airport 308 Grady Montgomery Dr
UID:e.2827.5670
SEQUENCE:3
DTSTAMP:20260423T173804Z
URL:https://member.jacksontn.com/events/details/first-flight-to-atlanta-5670
END:VEVENT

END:VCALENDAR
