BEGIN:VCALENDAR
VERSION:2.0
PRODID:-//ChamberMaster//Event Calendar 2.0//EN
METHOD:PUBLISH
X-PUBLISHED-TTL:P3D
REFRESH-INTERVAL:P3D
CALSCALE:GREGORIAN
BEGIN:VEVENT
DTSTART:20190221T173000Z
DTEND:20190221T190000Z
X-MICROSOFT-CDO-ALLDAYEVENT:FALSE
SUMMARY:February Women in Business
DESCRIPTION:Want to know what's going on in Jackson?  Come get the 411 on 731.\n\n\n\nSponsored by Commercial Bank and Trust Company\, Nordstar Medical Skincare & Laser Center\, Robert's Jewelers\, West Tennessee Women's Center
X-ALT-DESC;FMTTYPE=text/html:<span style="font-family: arial\; font-size: 14px\;">Want to know what&#39\;s going on in Jackson?&nbsp\; Come get the 411 on 731.<br />\n<br />\nSponsored by Commercial Bank and Trust Company\, Nordstar Medical Skincare &amp\; Laser Center\, Robert&#39\;s Jewelers\,&nbsp\;West Tennessee Women&#39\;s Center</span>
LOCATION:Jackson Country Club 31 Jackson Country Club Ln. Jackson\, TN 38305
UID:e.2827.6742
SEQUENCE:3
DTSTAMP:20260423T051719Z
URL:https://member.jacksontn.com/events/details/february-women-in-business-6742
END:VEVENT

END:VCALENDAR
