BEGIN:VCALENDAR
VERSION:2.0
PRODID:-//ChamberMaster//Event Calendar 2.0//EN
METHOD:PUBLISH
X-PUBLISHED-TTL:P3D
REFRESH-INTERVAL:P3D
CALSCALE:GREGORIAN
BEGIN:VEVENT
DTSTART:20190228T230000Z
DTEND:20190301T010000Z
X-MICROSOFT-CDO-ALLDAYEVENT:FALSE
SUMMARY:February Business After Hours
DESCRIPTION:This is one of the chamber's largest networking events!  Sponsored by the Allen Samuels of Jackson\, Inc.\n\n\n\n  Make contacts\n\n  Network\n\n  Enjoy hors d'oeuvres\n\n  Free to attend\n\n  No advance registration
X-ALT-DESC;FMTTYPE=text/html:<span style="font-family: arial\; font-size: 14px\;">This is one of the chamber&#39\;s largest networking events! &nbsp\;Sponsored by the Allen Samuels of Jackson\, Inc.</span><br />\n<br />\n&bull\; Make contacts<br />\n&bull\; Network<br />\n&bull\; Enjoy hors d&rsquo\;oeuvres<br />\n&bull\; Free to attend<br />\n&bull\; No advance registration
LOCATION:Allen Samuels of Jackson\, Inc. 1639 Hwy 45 Bypass Jackson\, TN 38305
UID:e.2827.6755
SEQUENCE:3
DTSTAMP:20260422T212348Z
URL:https://member.jacksontn.com/events/details/february-business-after-hours-6755
END:VEVENT

END:VCALENDAR
